BEGIN:VCALENDAR
VERSION:2.0
PRODID:-//pretix//draca_e-tickets//
BEGIN:VTIMEZONE
TZID:Europe/Brussels
BEGIN:STANDARD
DTSTART:20001029T040000
RRULE:FREQ=YEARLY;BYDAY=-1SU;BYMONTH=10
TZNAME:CET
TZOFFSETFROM:+0200
TZOFFSETTO:+0100
END:STANDARD
BEGIN:DAYLIGHT
DTSTART:20000326T030000
RRULE:FREQ=YEARLY;BYDAY=-1SU;BYMONTH=3
TZNAME:CEST
TZOFFSETFROM:+0100
TZOFFSETTO:+0200
END:DAYLIGHT
END:VTIMEZONE
BEGIN:VEVENT
UID:pretix-startlijn-quiz2022-14@events.destartlijn.be
DTSTART;TZID=Europe/Brussels:20230210T200000
DTEND;TZID=Europe/Brussels:20230210T233000
DESCRIPTION:Kaartjes: https://events.destartlijn.be/quiz2022/14/\nDeuren op
 en: 10-2-2023 19:30\nOrganisator: De Startlijn
DTSTAMP:20260421T201318Z
LOCATION:Ontmoetingscentrum Stokrode\, Sint-Amandusstraat 18\, 3511 Stokroo
 ie
SUMMARY:De 10e Startlijn Quiz
END:VEVENT
END:VCALENDAR
