BEGIN:VCALENDAR
VERSION:2.0
PRODID:-//pretix//draca_e-tickets//
BEGIN:VEVENT
UID:pretix-startlijn-wandeling-2020-4@events.destartlijn.be
DTSTART;VALUE=DATE:20201018
DTEND;VALUE=DATE:20201019
DESCRIPTION:Tickets: https://events.destartlijn.be/wandeling-2020/4/\nOrgan
 isator: De Startlijn
DTSTAMP:20260423T145102Z
SUMMARY:16:00
END:VEVENT
END:VCALENDAR
