BEGIN:VCALENDAR
VERSION:2.0
PRODID:-//pretix//draca_e-tickets//
BEGIN:VEVENT
UID:pretix-startlijn-wandeling-2021-6@events.destartlijn.be
DTSTART;VALUE=DATE:20211002
DTEND;VALUE=DATE:20211003
DESCRIPTION:Tickets: https://events.destartlijn.be/wandeling-2021/6/\nOrgan
 isator: De Startlijn
DTSTAMP:20260422T202943Z
LOCATION:Het Koet
SUMMARY:Vertrek tussen 13:00 en 14:00
END:VEVENT
END:VCALENDAR
