BEGIN:VCALENDAR
VERSION:2.0
PRODID:-//pretix//draca_e-tickets//
BEGIN:VEVENT
UID:pretix-startlijn-wandeling-2021-8@events.destartlijn.be
DTSTART;VALUE=DATE:20211002
DTEND;VALUE=DATE:20211003
DESCRIPTION:Tickets: https://events.destartlijn.be/wandeling-2021/8/\nOrgan
 isator: De Startlijn
DTSTAMP:20260422T203239Z
LOCATION:Het Koet
SUMMARY:Vertrek tussen 15:00 en 16:00
END:VEVENT
END:VCALENDAR
